BEGIN:VCALENDAR
VERSION:2.0
PRODID:-//Metro East Baptist Association - ECPv6.15.17.1//NONSGML v1.0//EN
CALSCALE:GREGORIAN
METHOD:PUBLISH
X-WR-CALNAME:Metro East Baptist Association
X-ORIGINAL-URL:https://meba.org
X-WR-CALDESC:Events for Metro East Baptist Association
REFRESH-INTERVAL;VALUE=DURATION:PT1H
X-Robots-Tag:noindex
X-PUBLISHED-TTL:PT1H
BEGIN:VTIMEZONE
TZID:America/Chicago
BEGIN:DAYLIGHT
TZOFFSETFROM:-0600
TZOFFSETTO:-0500
TZNAME:CDT
DTSTART:20210314T080000
END:DAYLIGHT
BEGIN:STANDARD
TZOFFSETFROM:-0500
TZOFFSETTO:-0600
TZNAME:CST
DTSTART:20211107T070000
END:STANDARD
BEGIN:DAYLIGHT
TZOFFSETFROM:-0600
TZOFFSETTO:-0500
TZNAME:CDT
DTSTART:20220313T080000
END:DAYLIGHT
BEGIN:STANDARD
TZOFFSETFROM:-0500
TZOFFSETTO:-0600
TZNAME:CST
DTSTART:20221106T070000
END:STANDARD
BEGIN:DAYLIGHT
TZOFFSETFROM:-0600
TZOFFSETTO:-0500
TZNAME:CDT
DTSTART:20230312T080000
END:DAYLIGHT
BEGIN:STANDARD
TZOFFSETFROM:-0500
TZOFFSETTO:-0600
TZNAME:CST
DTSTART:20231105T070000
END:STANDARD
END:VTIMEZONE
BEGIN:VEVENT
DTSTART;TZID=America/Chicago:20220901T113000
DTEND;TZID=America/Chicago:20220901T130000
DTSTAMP:20260420T223605
CREATED:20211129T205400Z
LAST-MODIFIED:20211129T205400Z
UID:1291-1662031800-1662037200@meba.org
SUMMARY:Minister's Luncheon
DESCRIPTION:Every 1st Thursday of the month the MEBA pastors gather to fellowship together over lunch.  Join us at Bandanas in Fairview Heights.
URL:https://meba.org/event/ministers-luncheon-10/
LOCATION:Bandana’s BBQ\, 4608 N. Illinois St\, Fairview Heights\, IL\, 62208\, United States
END:VEVENT
BEGIN:VEVENT
DTSTART;VALUE=DATE:20220905
DTEND;VALUE=DATE:20220906
DTSTAMP:20260420T223605
CREATED:20211130T200930Z
LAST-MODIFIED:20211130T200930Z
UID:1317-1662336000-1662422399@meba.org
SUMMARY:Labor Day
DESCRIPTION:Office will be closed today.
URL:https://meba.org/event/labor-day/
END:VEVENT
BEGIN:VEVENT
DTSTART;TZID=America/Chicago:20220908T183000
DTEND;TZID=America/Chicago:20220908T203000
DTSTAMP:20260420T223605
CREATED:20211129T210916Z
LAST-MODIFIED:20211129T210916Z
UID:1310-1662661800-1662669000@meba.org
SUMMARY:Executive Board Meeting
DESCRIPTION:Meeting will begin at 6:30 PM and conclude by 8:30 PM.
URL:https://meba.org/event/executive-board-meeting-3/
LOCATION:MEBA Office\, 4950 Old Collinsville Road\, Swansea\, Illinois\, 62226
END:VEVENT
BEGIN:VEVENT
DTSTART;TZID=America/Chicago:20220915T180000
DTEND;TZID=America/Chicago:20220915T203000
DTSTAMP:20260420T223605
CREATED:20211129T210432Z
LAST-MODIFIED:20211129T210432Z
UID:1304-1663264800-1663273800@meba.org
SUMMARY:Church Health Seminar
DESCRIPTION:The seminar will begin at 6 pm with dinner for all participants.  The meeting will conclude around 8:30 PM.  Check out the website for more information.
URL:https://meba.org/event/church-health-seminar-4/
LOCATION:MEBA Office\, 4950 Old Collinsville Road\, Swansea\, Illinois\, 62226
END:VEVENT
END:VCALENDAR