BEGIN:VCALENDAR
VERSION:2.0
PRODID:-//Metro East Baptist Association - ECPv6.15.17.1//NONSGML v1.0//EN
CALSCALE:GREGORIAN
METHOD:PUBLISH
X-ORIGINAL-URL:https://meba.org
X-WR-CALDESC:Events for Metro East Baptist Association
REFRESH-INTERVAL;VALUE=DURATION:PT1H
X-Robots-Tag:noindex
X-PUBLISHED-TTL:PT1H
BEGIN:VTIMEZONE
TZID:America/Chicago
BEGIN:DAYLIGHT
TZOFFSETFROM:-0600
TZOFFSETTO:-0500
TZNAME:CDT
DTSTART:20210314T080000
END:DAYLIGHT
BEGIN:STANDARD
TZOFFSETFROM:-0500
TZOFFSETTO:-0600
TZNAME:CST
DTSTART:20211107T070000
END:STANDARD
BEGIN:DAYLIGHT
TZOFFSETFROM:-0600
TZOFFSETTO:-0500
TZNAME:CDT
DTSTART:20220313T080000
END:DAYLIGHT
BEGIN:STANDARD
TZOFFSETFROM:-0500
TZOFFSETTO:-0600
TZNAME:CST
DTSTART:20221106T070000
END:STANDARD
BEGIN:DAYLIGHT
TZOFFSETFROM:-0600
TZOFFSETTO:-0500
TZNAME:CDT
DTSTART:20230312T080000
END:DAYLIGHT
BEGIN:STANDARD
TZOFFSETFROM:-0500
TZOFFSETTO:-0600
TZNAME:CST
DTSTART:20231105T070000
END:STANDARD
END:VTIMEZONE
BEGIN:VEVENT
DTSTART;TZID=America/Chicago:20220602T113000
DTEND;TZID=America/Chicago:20220602T130000
DTSTAMP:20260421T041320
CREATED:20211129T205131Z
LAST-MODIFIED:20211129T205131Z
UID:1285-1654169400-1654174800@meba.org
SUMMARY:Minister's Luncheon
DESCRIPTION:Every 1st Thursday of the month the MEBA pastors gather to fellowship together over lunch.  Join us at Bandanas in Fairview Heights.
URL:https://meba.org/event/ministers-luncheon-7/
LOCATION:Bandana’s BBQ\, 4608 N. Illinois St\, Fairview Heights\, IL\, 62208\, United States
END:VEVENT
BEGIN:VEVENT
DTSTART;VALUE=DATE:20220612
DTEND;VALUE=DATE:20220614
DTSTAMP:20260421T041320
CREATED:20211129T211251Z
LAST-MODIFIED:20211129T211251Z
UID:1312-1654992000-1655164799@meba.org
SUMMARY:SBC Pastors Conference/Send Conference
DESCRIPTION:
URL:https://meba.org/event/sbc-pastors-conference-send-conference/
END:VEVENT
BEGIN:VEVENT
DTSTART;VALUE=DATE:20220614
DTEND;VALUE=DATE:20220616
DTSTAMP:20260421T041320
CREATED:20211129T211409Z
LAST-MODIFIED:20211129T211409Z
UID:1314-1655164800-1655337599@meba.org
SUMMARY:SBC Annual Meeting
DESCRIPTION:Anaheim\, CA
URL:https://meba.org/event/sbc-annual-meeting/
END:VEVENT
END:VCALENDAR