BEGIN:VCALENDAR
VERSION:2.0
PRODID:-//Metro East Baptist Association - ECPv6.15.17.1//NONSGML v1.0//EN
CALSCALE:GREGORIAN
METHOD:PUBLISH
X-WR-CALNAME:Metro East Baptist Association
X-ORIGINAL-URL:https://meba.org
X-WR-CALDESC:Events for Metro East Baptist Association
REFRESH-INTERVAL;VALUE=DURATION:PT1H
X-Robots-Tag:noindex
X-PUBLISHED-TTL:PT1H
BEGIN:VTIMEZONE
TZID:America/Chicago
BEGIN:DAYLIGHT
TZOFFSETFROM:-0600
TZOFFSETTO:-0500
TZNAME:CDT
DTSTART:20210314T080000
END:DAYLIGHT
BEGIN:STANDARD
TZOFFSETFROM:-0500
TZOFFSETTO:-0600
TZNAME:CST
DTSTART:20211107T070000
END:STANDARD
BEGIN:DAYLIGHT
TZOFFSETFROM:-0600
TZOFFSETTO:-0500
TZNAME:CDT
DTSTART:20220313T080000
END:DAYLIGHT
BEGIN:STANDARD
TZOFFSETFROM:-0500
TZOFFSETTO:-0600
TZNAME:CST
DTSTART:20221106T070000
END:STANDARD
BEGIN:DAYLIGHT
TZOFFSETFROM:-0600
TZOFFSETTO:-0500
TZNAME:CDT
DTSTART:20230312T080000
END:DAYLIGHT
BEGIN:STANDARD
TZOFFSETFROM:-0500
TZOFFSETTO:-0600
TZNAME:CST
DTSTART:20231105T070000
END:STANDARD
END:VTIMEZONE
BEGIN:VEVENT
DTSTART;TZID=America/Chicago:20220407T113000
DTEND;TZID=America/Chicago:20220407T130000
DTSTAMP:20260421T070421
CREATED:20211129T204917Z
LAST-MODIFIED:20211129T204917Z
UID:1281-1649331000-1649336400@meba.org
SUMMARY:Minister's Luncheon
DESCRIPTION:Every 1st Thursday of the month the MEBA pastors gather to fellowship together over lunch.  Join us at Bandanas in Fairview Heights.
URL:https://meba.org/event/ministers-luncheon-5/
LOCATION:Bandana’s BBQ\, 4608 N. Illinois St\, Fairview Heights\, IL\, 62208\, United States
END:VEVENT
BEGIN:VEVENT
DTSTART;VALUE=DATE:20220417
DTEND;VALUE=DATE:20220418
DTSTAMP:20260421T070421
CREATED:20211130T201159Z
LAST-MODIFIED:20211130T201159Z
UID:1323-1650153600-1650239999@meba.org
SUMMARY:Easter
DESCRIPTION:
URL:https://meba.org/event/easter/
END:VEVENT
BEGIN:VEVENT
DTSTART;TZID=America/Chicago:20220429T190000
DTEND;TZID=America/Chicago:20220430T150000
DTSTAMP:20260421T070421
CREATED:20211129T205833Z
LAST-MODIFIED:20211129T205833Z
UID:1295-1651258800-1651330800@meba.org
SUMMARY:Priority Simulcast
DESCRIPTION:The Women’s Ministry of MEBA will host the Priority Conference via simulcast at the MEBA office conference room.  The conference will begin Friday evening at 7 PM.  The conference will continue Saturday from 9-11am and 1-3pm.  Plan to come.  More information is in the MEBA eNewsletter.
URL:https://meba.org/event/priority-simulcast/
LOCATION:MEBA Office\, 4950 Old Collinsville Road\, Swansea\, Illinois\, 62226
END:VEVENT
END:VCALENDAR