BEGIN:VCALENDAR
VERSION:2.0
PRODID:-//Metro East Baptist Association - ECPv6.15.17.1//NONSGML v1.0//EN
CALSCALE:GREGORIAN
METHOD:PUBLISH
X-WR-CALNAME:Metro East Baptist Association
X-ORIGINAL-URL:https://meba.org
X-WR-CALDESC:Events for Metro East Baptist Association
REFRESH-INTERVAL;VALUE=DURATION:PT1H
X-Robots-Tag:noindex
X-PUBLISHED-TTL:PT1H
BEGIN:VTIMEZONE
TZID:America/Chicago
BEGIN:DAYLIGHT
TZOFFSETFROM:-0600
TZOFFSETTO:-0500
TZNAME:CDT
DTSTART:20210314T080000
END:DAYLIGHT
BEGIN:STANDARD
TZOFFSETFROM:-0500
TZOFFSETTO:-0600
TZNAME:CST
DTSTART:20211107T070000
END:STANDARD
BEGIN:DAYLIGHT
TZOFFSETFROM:-0600
TZOFFSETTO:-0500
TZNAME:CDT
DTSTART:20220313T080000
END:DAYLIGHT
BEGIN:STANDARD
TZOFFSETFROM:-0500
TZOFFSETTO:-0600
TZNAME:CST
DTSTART:20221106T070000
END:STANDARD
BEGIN:DAYLIGHT
TZOFFSETFROM:-0600
TZOFFSETTO:-0500
TZNAME:CDT
DTSTART:20230312T080000
END:DAYLIGHT
BEGIN:STANDARD
TZOFFSETFROM:-0500
TZOFFSETTO:-0600
TZNAME:CST
DTSTART:20231105T070000
END:STANDARD
END:VTIMEZONE
BEGIN:VEVENT
DTSTART;VALUE=DATE:20221107
DTEND;VALUE=DATE:20221109
DTSTAMP:20260420T205706
CREATED:20211130T201555Z
LAST-MODIFIED:20211130T201555Z
UID:1333-1667779200-1667951999@meba.org
SUMMARY:IBSA Pastor's Conference
DESCRIPTION:Edwardsville\, Illinois
URL:https://meba.org/event/ibsa-pastors-conference-2/
END:VEVENT
BEGIN:VEVENT
DTSTART;VALUE=DATE:20221108
DTEND;VALUE=DATE:20221110
DTSTAMP:20260420T205706
CREATED:20211130T201635Z
LAST-MODIFIED:20211130T201635Z
UID:1335-1667865600-1668038399@meba.org
SUMMARY:IBSA Annual Meeting
DESCRIPTION:Edwardsville\, Illinois
URL:https://meba.org/event/ibsa-annual-meeting-2/
END:VEVENT
END:VCALENDAR